BEGIN:VCALENDAR
VERSION:2.0
METHOD:PUBLISH
CALSCALE:GREGORIAN
PRODID:-//WordPress - MECv7.31.0//EN
X-ORIGINAL-URL:https://elcchamber.org/
X-WR-CALNAME:East Lewis County Chamber of Commerce
X-WR-CALDESC:Breath Easy in the Mountains
X-WR-TIMEZONE:America/Los_Angeles
BEGIN:VTIMEZONE
TZID:America/Los_Angeles
X-LIC-LOCATION:America/Los_Angeles
BEGIN:DAYLIGHT
TZOFFSETFROM:-0800
TZOFFSETTO:-0700
TZNAME:PDT
DTSTART:20260308T030000
RRULE:FREQ=YEARLY;BYMONTH=03;BYDAY=2SU
END:DAYLIGHT
BEGIN:STANDARD
TZOFFSETFROM:-0700
TZOFFSETTO:-0800
TZNAME:PST
DTSTART:20261101T010000
RRULE:FREQ=YEARLY;BYMONTH=11;BYDAY=1SU
END:STANDARD
END:VTIMEZONE
REFRESH-INTERVAL;VALUE=DURATION:PT1H
X-PUBLISHED-TTL:PT1H
X-MS-OLK-FORCEINSPECTOROPEN:TRUE
BEGIN:VEVENT
CLASS:PUBLIC
UID:MEC-0ce2ffd21fc958d9ef0ee9ba5336e357@elcchamber.org
DTSTART;TZID=America/Los_Angeles:20260422T180000
DTEND;TZID=America/Los_Angeles:20260422T190000
DTSTAMP:20260108T102711Z
CREATED:20260108
LAST-MODIFIED:20260108
PRIORITY:5
SEQUENCE:8
TRANSP:OPAQUE
SUMMARY:ELCC Monthly Member Meeting
DESCRIPTION:\nELC Chamber monthly member meeting- Even Month = Evening Meeting, Odd Month = Lunch Meeting\n
URL:https://elcchamber.org/events/elcc-monthly-member-meeting-295/
ORGANIZER;CN=East Lewis County Chamber:MAILTO:eastlewiscountychamber@gmail.com
CATEGORIES:General Calendar,Mineral,Morton,Mossyrock,Onalaska,Packwood,Randle / Glenoma,Salkum / Ethel
LOCATION:TBD
END:VEVENT
BEGIN:VEVENT
CLASS:PUBLIC
UID:MEC-bb04af0f7ecaee4aae62035497da1387@elcchamber.org
DTSTART;TZID=America/Los_Angeles:20260511T173000
DTEND;TZID=America/Los_Angeles:20260511T183000
DTSTAMP:20260108T104037Z
CREATED:20260108
LAST-MODIFIED:20260108
PRIORITY:5
SEQUENCE:7
TRANSP:OPAQUE
SUMMARY:ELCC Board Meeting
DESCRIPTION:\nRegular monthly business meeting of the Chamber Board. Open to the public.\n
URL:https://elcchamber.org/events/elcc-board-meeting-870-499-862-993/
ORGANIZER;CN=East Lewis County Chamber:MAILTO:eastlewiscountychamber@gmail.com
CATEGORIES:General Calendar,Mineral,Morton,Mossyrock,Onalaska,Packwood,Randle / Glenoma,Salkum / Ethel
LOCATION:250-C Westlake Ave., Morton, Washington
END:VEVENT
BEGIN:VEVENT
CLASS:PUBLIC
UID:MEC-17326d10d511828f6b34fa6d751739e2@elcchamber.org
DTSTART;TZID=America/Los_Angeles:20260527T120000
DTEND;TZID=America/Los_Angeles:20260527T130000
DTSTAMP:20260108T101835Z
CREATED:20260108
LAST-MODIFIED:20260108
PRIORITY:5
SEQUENCE:12
TRANSP:OPAQUE
SUMMARY:ELCC Monthly Member Meeting
DESCRIPTION:\nELC Chamber monthly member meeting- Even Month = Evening Meeting, Odd Month = Lunch Meeting\n
URL:https://elcchamber.org/events/elcc-monthly-member-meeting-640-646-530-356/
ORGANIZER;CN=East Lewis County Chamber:MAILTO:eastlewiscountychamber@gmail.com
CATEGORIES:General Calendar,Mineral,Morton,Mossyrock,Onalaska,Packwood,Randle / Glenoma,Salkum / Ethel
LOCATION:TBD
END:VEVENT
BEGIN:VEVENT
CLASS:PUBLIC
UID:MEC-fb60d411a5c5b72b2e7d3527cfc84fd0@elcchamber.org
DTSTART;TZID=America/Los_Angeles:20260608T173000
DTEND;TZID=America/Los_Angeles:20260608T183000
DTSTAMP:20260108T104132Z
CREATED:20260108
LAST-MODIFIED:20260108
PRIORITY:5
SEQUENCE:9
TRANSP:OPAQUE
SUMMARY:ELCC Board Meeting
DESCRIPTION:\nRegular monthly business meeting of the Chamber Board. Open to the public.\n
URL:https://elcchamber.org/events/elcc-board-meeting-870-499-862-993-807/
ORGANIZER;CN=East Lewis County Chamber:MAILTO:eastlewiscountychamber@gmail.com
CATEGORIES:General Calendar,Mineral,Morton,Mossyrock,Onalaska,Packwood,Randle / Glenoma,Salkum / Ethel
LOCATION:250-C Westlake Ave., Morton, Washington
END:VEVENT
BEGIN:VEVENT
CLASS:PUBLIC
UID:MEC-8e2cfdc275761edc592f73a076197c33@elcchamber.org
DTSTART;TZID=America/Los_Angeles:20260624T180000
DTEND;TZID=America/Los_Angeles:20260624T190000
DTSTAMP:20260108T102806Z
CREATED:20260108
LAST-MODIFIED:20260108
PRIORITY:5
SEQUENCE:7
TRANSP:OPAQUE
SUMMARY:ELCC Monthly Member Meeting
DESCRIPTION:
URL:https://elcchamber.org/events/elcc-monthly-member-meeting-295-713/
ORGANIZER;CN=East Lewis County Chamber:MAILTO:eastlewiscountychamber@gmail.com
CATEGORIES:General Calendar,Mineral,Morton,Mossyrock,Onalaska,Packwood,Randle / Glenoma,Salkum / Ethel
LOCATION:TBD
END:VEVENT
BEGIN:VEVENT
CLASS:PUBLIC
UID:MEC-d759175de8ea5b1d9a2660e45554894f@elcchamber.org
DTSTART;TZID=America/Los_Angeles:20260713T173000
DTEND;TZID=America/Los_Angeles:20260713T183000
DTSTAMP:20260108T104234Z
CREATED:20260108
LAST-MODIFIED:20260108
PRIORITY:5
SEQUENCE:9
TRANSP:OPAQUE
SUMMARY:ELCC Board Meeting
DESCRIPTION:\nRegular monthly business meeting of the Chamber Board. Open to the public.\n
URL:https://elcchamber.org/events/elcc-board-meeting-870-499-862-993-807-377/
ORGANIZER;CN=East Lewis County Chamber:MAILTO:eastlewiscountychamber@gmail.com
CATEGORIES:General Calendar,Mineral,Morton,Mossyrock,Onalaska,Packwood,Randle / Glenoma,Salkum / Ethel
LOCATION:250-C Westlake Ave., Morton, Washington
END:VEVENT
BEGIN:VEVENT
CLASS:PUBLIC
UID:MEC-dc4c44f624d600aa568390f1f1104aa0@elcchamber.org
DTSTART;TZID=America/Los_Angeles:20260722T120000
DTEND;TZID=America/Los_Angeles:20260722T130000
DTSTAMP:20260108T101954Z
CREATED:20260108
LAST-MODIFIED:20260108
PRIORITY:5
SEQUENCE:14
TRANSP:OPAQUE
SUMMARY:ELCC Monthly Member Meeting
DESCRIPTION:\nELC Chamber monthly member meeting- Even Month = Evening Meeting, Odd Month = Lunch Meeting\n
URL:https://elcchamber.org/events/elcc-monthly-member-meeting-640-646-530-356-362/
ORGANIZER;CN=East Lewis County Chamber:MAILTO:eastlewiscountychamber@gmail.com
CATEGORIES:General Calendar,Mineral,Morton,Mossyrock,Onalaska,Packwood,Randle / Glenoma,Salkum / Ethel
LOCATION:TBD
END:VEVENT
BEGIN:VEVENT
CLASS:PUBLIC
UID:MEC-ab1a4d0dd4d48a2ba1077c4494791306@elcchamber.org
DTSTART;TZID=America/Los_Angeles:20260810T173000
DTEND;TZID=America/Los_Angeles:20260810T183000
DTSTAMP:20260108T104342Z
CREATED:20260108
LAST-MODIFIED:20260108
PRIORITY:5
SEQUENCE:11
TRANSP:OPAQUE
SUMMARY:ELCC Board Meeting
DESCRIPTION:\nRegular monthly business meeting of the Chamber Board. Open to the public.\n
URL:https://elcchamber.org/events/elcc-board-meeting-870-499-862-993-807-377-183/
ORGANIZER;CN=East Lewis County Chamber:MAILTO:eastlewiscountychamber@gmail.com
CATEGORIES:General Calendar,Mineral,Morton,Mossyrock,Onalaska,Packwood,Randle / Glenoma,Salkum / Ethel
LOCATION:250-C Westlake Ave., Morton, Washington
END:VEVENT
BEGIN:VEVENT
CLASS:PUBLIC
UID:MEC-b51a15f382ac914391a58850ab343b00@elcchamber.org
DTSTART;TZID=America/Los_Angeles:20260826T180000
DTEND;TZID=America/Los_Angeles:20260826T190000
DTSTAMP:20260108T102858Z
CREATED:20260108
LAST-MODIFIED:20260108
PRIORITY:5
SEQUENCE:10
TRANSP:OPAQUE
SUMMARY:ELCC Monthly Member Meeting
DESCRIPTION:\nELC Chamber monthly member meeting- Even Month = Evening Meeting, Odd Month = Lunch Meeting\n
URL:https://elcchamber.org/events/elcc-monthly-member-meeting-295-713-651/
ORGANIZER;CN=East Lewis County Chamber:MAILTO:eastlewiscountychamber@gmail.com
CATEGORIES:General Calendar,Mineral,Morton,Mossyrock,Onalaska,Packwood,Randle / Glenoma,Salkum / Ethel
LOCATION:TBD
END:VEVENT
BEGIN:VEVENT
CLASS:PUBLIC
UID:MEC-e5e63da79fcd2bebbd7cb8bf1c1d0274@elcchamber.org
DTSTART;TZID=America/Los_Angeles:20260905T100000
DTEND;TZID=America/Los_Angeles:20260906T170000
DTSTAMP:20251107T152023Z
CREATED:20251107
LAST-MODIFIED:20251227
PRIORITY:5
SEQUENCE:5
TRANSP:OPAQUE
SUMMARY:Cascadia Renaissance Faire
DESCRIPTION:Cascadia Renaissance Faire\nStep into a world of wonder at the Cascadia Renaissance Faire: A Highland Event!\nImmerse yourself in a vibrant celebration of Celtic heritage, arts, and history — all set in the breathtaking beauty of the Cascadian landscape. From thunderous drums to the delicate swirl of tartan, experience:\nLive Music & Traditional Dance\nDazzling Performances & Storytelling\nCraftsmanship, Combat, and Living History\nHearty Feasts & Artisan Wares\nMark your calendars for a weekend of unforgettable fun!\nWhere the past comes alive and the Celtic legacy thrives.\n
URL:https://elcchamber.org/events/cascadia-renaissance-faire/
CATEGORIES:Randle / Glenoma
LOCATION:Mile Post 114.5 Hwy 12
ATTACH;FMTTYPE=image/png:https://elcchamber.org/wp-content/uploads/2025/07/Cascadia-Ren-Faire-logo.png
END:VEVENT
BEGIN:VEVENT
CLASS:PUBLIC
UID:MEC-995665640dc319973d3173a74a03860c@elcchamber.org
DTSTART;TZID=America/Los_Angeles:20260914T173000
DTEND;TZID=America/Los_Angeles:20260914T183000
DTSTAMP:20260108T104434Z
CREATED:20260108
LAST-MODIFIED:20260108
PRIORITY:5
SEQUENCE:15
TRANSP:OPAQUE
SUMMARY:ELCC Board Meeting
DESCRIPTION:\nRegular monthly business meeting of the Chamber Board. Open to the public.\n
URL:https://elcchamber.org/events/elcc-board-meeting-870-499-862-993-807-377-183-179/
ORGANIZER;CN=East Lewis County Chamber:MAILTO:eastlewiscountychamber@gmail.com
CATEGORIES:General Calendar,Mineral,Morton,Mossyrock,Onalaska,Packwood,Randle / Glenoma,Salkum / Ethel
LOCATION:250-C Westlake Ave., Morton, Washington
END:VEVENT
BEGIN:VEVENT
CLASS:PUBLIC
UID:MEC-7eb3c8be3d411e8ebfab08eba5f49632@elcchamber.org
DTSTART;TZID=America/Los_Angeles:20260923T120000
DTEND;TZID=America/Los_Angeles:20260923T130000
DTSTAMP:20260108T102444Z
CREATED:20260108
LAST-MODIFIED:20260108
PRIORITY:5
SEQUENCE:16
TRANSP:OPAQUE
SUMMARY:ELCC Monthly Member Meeting
DESCRIPTION:\nELC Chamber monthly member meeting- Even Month = Evening Meeting, Odd Month = Lunch MeetingSet up for the SasqWatch event.  All help is welcome, lunch provided.\n
URL:https://elcchamber.org/events/elcc-monthly-member-meeting-640-646-530-356-362-900/
ORGANIZER;CN=East Lewis County Chamber:MAILTO:eastlewiscountychamber@gmail.com
CATEGORIES:General Calendar,Mineral,Morton,Mossyrock,Onalaska,Packwood,Randle / Glenoma,Salkum / Ethel
LOCATION:Mile Post 114.5 Hwy 12
END:VEVENT
BEGIN:VEVENT
CLASS:PUBLIC
UID:MEC-f9be311e65d81a9ad8150a60844bb94c@elcchamber.org
DTSTART;TZID=America/Los_Angeles:20260925T080000
DTEND;TZID=America/Los_Angeles:20260927T180000
DTSTAMP:20260108T232831Z
CREATED:20260108
LAST-MODIFIED:20260108
PRIORITY:5
SEQUENCE:1
TRANSP:OPAQUE
SUMMARY:SasqWatch: Beyond the Footprint
DESCRIPTION:Your opportunity to learn about Sasquatch from experts with years of research and experience.  Listen to speakers, attend classes, visit the vendors, share stories.\n
URL:https://elcchamber.org/events/sasqwatch-beyond-the-footprint/
ORGANIZER;CN=East Lewis County Chamber:MAILTO:eastlewiscountychamber@gmail.com
CATEGORIES:General Calendar,Mineral,Morton,Mossyrock,Onalaska,Packwood,Randle / Glenoma,Salkum / Ethel
LOCATION:Mile Post 114.5 Hwy 12
ATTACH;FMTTYPE=image/png:https://elcchamber.org/wp-content/uploads/2025/10/sas10-11-e1767943920425.png
END:VEVENT
BEGIN:VEVENT
CLASS:PUBLIC
UID:MEC-da11e8cd1811acb79ccf0fd62cd58f86@elcchamber.org
DTSTART;TZID=America/Los_Angeles:20261012T173000
DTEND;TZID=America/Los_Angeles:20261012T183000
DTSTAMP:20260108T104522Z
CREATED:20260108
LAST-MODIFIED:20260108
PRIORITY:5
SEQUENCE:13
TRANSP:OPAQUE
SUMMARY:ELCC Board Meeting
DESCRIPTION:\nRegular monthly business meeting of the Chamber Board. Open to the public.\n
URL:https://elcchamber.org/events/elcc-board-meeting-870-499-862-993-807-377-183-179-595/
ORGANIZER;CN=East Lewis County Chamber:MAILTO:eastlewiscountychamber@gmail.com
CATEGORIES:General Calendar,Mineral,Morton,Mossyrock,Onalaska,Packwood,Randle / Glenoma,Salkum / Ethel
LOCATION:250-C Westlake Ave., Morton, Washington
END:VEVENT
BEGIN:VEVENT
CLASS:PUBLIC
UID:MEC-193002e668758ea9762904da1a22337c@elcchamber.org
DTSTART;TZID=America/Los_Angeles:20261028T180000
DTEND;TZID=America/Los_Angeles:20261028T190000
DTSTAMP:20260108T102956Z
CREATED:20260108
LAST-MODIFIED:20260108
PRIORITY:5
SEQUENCE:11
TRANSP:OPAQUE
SUMMARY:ELCC Monthly Member Meeting
DESCRIPTION:\nELC Chamber monthly member meeting- Even Month = Evening Meeting, Odd Month = Lunch Meeting\n
URL:https://elcchamber.org/events/elcc-monthly-member-meeting-295-713-651-659/
ORGANIZER;CN=East Lewis County Chamber:MAILTO:eastlewiscountychamber@gmail.com
CATEGORIES:General Calendar,Mineral,Morton,Mossyrock,Onalaska,Packwood,Randle / Glenoma,Salkum / Ethel
LOCATION:TBD
END:VEVENT
BEGIN:VEVENT
CLASS:PUBLIC
UID:MEC-d94e18a8adb4cc0f623f7a83b1ac75b4@elcchamber.org
DTSTART;TZID=America/Los_Angeles:20261109T173000
DTEND;TZID=America/Los_Angeles:20261109T183000
DTSTAMP:20260108T104609Z
CREATED:20260108
LAST-MODIFIED:20260108
PRIORITY:5
SEQUENCE:14
TRANSP:OPAQUE
SUMMARY:ELCC Board Meeting
DESCRIPTION:\nRegular monthly business meeting of the Chamber Board. Open to the public.\n
URL:https://elcchamber.org/events/elcc-board-meeting-870-499-862-993-807-377-183-179-595-280/
ORGANIZER;CN=East Lewis County Chamber:MAILTO:eastlewiscountychamber@gmail.com
CATEGORIES:General Calendar,Mineral,Morton,Mossyrock,Onalaska,Packwood,Randle / Glenoma,Salkum / Ethel
LOCATION:250-C Westlake Ave., Morton, Washington
END:VEVENT
BEGIN:VEVENT
CLASS:PUBLIC
UID:MEC-6c8dba7d0df1c4a79dd07646be9a26c8@elcchamber.org
DTSTART;TZID=America/Los_Angeles:20261118T120000
DTEND;TZID=America/Los_Angeles:20261118T130000
DTSTAMP:20260108T102556Z
CREATED:20260108
LAST-MODIFIED:20260108
PRIORITY:5
SEQUENCE:16
TRANSP:OPAQUE
SUMMARY:ELCC Monthly Member Meeting
DESCRIPTION:\nELC Chamber monthly member meeting- Even Month = Evening Meeting, Odd Month = Lunch MeetingThis meeting is one week early to avoid conflict with the Thanksgiving holiday.\n
URL:https://elcchamber.org/events/elcc-monthly-member-meeting-640-646-530-356-362-900-524/
ORGANIZER;CN=East Lewis County Chamber:MAILTO:eastlewiscountychamber@gmail.com
CATEGORIES:General Calendar,Mineral,Morton,Mossyrock,Onalaska,Packwood,Randle / Glenoma,Salkum / Ethel
LOCATION:TBD
END:VEVENT
BEGIN:VEVENT
CLASS:PUBLIC
UID:MEC-1cecc7a77928ca8133fa24680a88d2f9@elcchamber.org
DTSTART;TZID=America/Los_Angeles:20261214T173000
DTEND;TZID=America/Los_Angeles:20261214T183000
DTSTAMP:20260108T104713Z
CREATED:20260108
LAST-MODIFIED:20260108
PRIORITY:5
SEQUENCE:17
TRANSP:OPAQUE
SUMMARY:ELCC Board Meeting
DESCRIPTION:\nRegular monthly business meeting of the Chamber Board. Open to the public.\n
URL:https://elcchamber.org/events/elcc-board-meeting-870-499-862-993-807-377-183-179-595-280-815/
ORGANIZER;CN=East Lewis County Chamber:MAILTO:eastlewiscountychamber@gmail.com
CATEGORIES:General Calendar,Mineral,Morton,Mossyrock,Onalaska,Packwood,Randle / Glenoma,Salkum / Ethel
LOCATION:250-C Westlake Ave., Morton, Washington
END:VEVENT
BEGIN:VEVENT
CLASS:PUBLIC
UID:MEC-e00406144c1e7e35240afed70f34166a@elcchamber.org
DTSTART;TZID=America/Los_Angeles:20261216T180000
DTEND;TZID=America/Los_Angeles:20261216T200000
DTSTAMP:20260108T103050Z
CREATED:20260108
LAST-MODIFIED:20260108
PRIORITY:5
SEQUENCE:11
TRANSP:OPAQUE
SUMMARY:ELCC Monthly Member Meeting
DESCRIPTION:\nELC Chamber monthly member meeting- Even Month = Evening Meeting, Odd Month = Lunch MeetingThis meeting is one week early to avoid conflict with the Thanksgiving holiday.\n
URL:https://elcchamber.org/events/elcc-monthly-member-meeting-295-713-651-659-976/
ORGANIZER;CN=East Lewis County Chamber:MAILTO:eastlewiscountychamber@gmail.com
CATEGORIES:General Calendar,Mineral,Morton,Mossyrock,Onalaska,Packwood,Randle / Glenoma,Salkum / Ethel
LOCATION:TBD
END:VEVENT
END:VCALENDAR
